BEGIN:VCALENDAR
VERSION:2.0
PRODID:-//wp-events-plugin.com//7.2.3.1//EN
BEGIN:VEVENT
UID:1@charlesparishdar.org
DTSTART:20201027T133000Z
DTEND:20201027T133000Z
DTSTAMP:20201026T221748Z
URL:https://charlesparishdar.org/events/chapter-meeting/
SUMMARY:Chapter Meeting
DESCRIPTION:Zoom meeting at 1:30PM on October 27\, 2020.  Be sure to use t
 he most recent zoom invitation sent out last week.
END:VEVENT
END:VCALENDAR